BEGIN:VCALENDAR
VERSION:2.0
PRODID:-//Fusion Dance Center - ECPv6.15.20//NONSGML v1.0//EN
CALSCALE:GREGORIAN
METHOD:PUBLISH
X-WR-CALNAME:Fusion Dance Center
X-ORIGINAL-URL:https://myfusiondance.com
X-WR-CALDESC:Events for Fusion Dance Center
REFRESH-INTERVAL;VALUE=DURATION:PT1H
X-Robots-Tag:noindex
X-PUBLISHED-TTL:PT1H
BEGIN:VTIMEZONE
TZID:UTC
BEGIN:STANDARD
TZOFFSETFROM:+0000
TZOFFSETTO:+0000
TZNAME:UTC
DTSTART:20250101T000000
END:STANDARD
END:VTIMEZONE
BEGIN:VEVENT
DTSTART;VALUE=DATE:20260630
DTEND;VALUE=DATE:20260724
DTSTAMP:20260424T124416
CREATED:20191030T133146Z
LAST-MODIFIED:20260124T194137Z
UID:403-1782777600-1784851199@myfusiondance.com
SUMMARY:Summer Classes 2026
DESCRIPTION:OverviewFUSION DANCE CENTER \nSUMMER SCHEDULE 2026 \nJUNE 30 – JULY 23 \n\nMore details to come! \n\n\n\n  \n\n\n\n\n\n\n\n\n\n\nView this profile on Instagram\n\n\n\n\n\n\n\n\n\n\n\n\n\n\n\n\n\n\n\n\n\n\n  \nFusion Dance Center (@myfusiondance) • Instagram photos and videos
URL:https://myfusiondance.com/event/summer-classes/
LOCATION:Fusion Dance Center\, 4033 N St. Peters Pkwy\, St Charles\, MO\, 63303\, United States
CATEGORIES:Intermediate
ATTACH;FMTTYPE=image/jpeg:https://myfusiondance.com/wp-content/uploads/2019/10/fusiondancecenter-eventplaceholder-wide.jpg
ORGANIZER;CN="Fusion Dance Center":MAILTO:myfusiondance@gmail.com
END:VEVENT
BEGIN:VEVENT
DTSTART;VALUE=DATE:20260727
DTEND;VALUE=DATE:20260801
DTSTAMP:20260424T124416
CREATED:20191030T150337Z
LAST-MODIFIED:20260124T194011Z
UID:417-1785110400-1785542399@myfusiondance.com
SUMMARY:Summer Intensive 2026
DESCRIPTION:OverviewMore details to come! \n\n\n  \n\n\n\n\n\n\n\n\n\n\nView this profile on Instagram\n\n\n\n\n\n\n\n\n\n\n\n\n\n\n\n\n\n\n\n\n\n\n  \nFusion Dance Center (@myfusiondance) • Instagram photos and videos
URL:https://myfusiondance.com/event/summer-intensive/
LOCATION:Fusion Dance Center\, 4033 N St. Peters Pkwy\, St Charles\, MO\, 63303\, United States
CATEGORIES:Advanced
ATTACH;FMTTYPE=image/jpeg:https://myfusiondance.com/wp-content/uploads/2019/10/fusiondancecenter-eventplaceholder-wide.jpg
ORGANIZER;CN="Fusion Dance Center":MAILTO:myfusiondance@gmail.com
END:VEVENT
END:VCALENDAR